Package: omicRexposome Version: 1.31.0 Command: /home/biocbuild/bbs-3.22-bioc/R/bin/R CMD INSTALL omicRexposome StartedAt: 2025-10-24 15:40:43 -0400 (Fri, 24 Oct 2025) EndedAt: 2025-10-24 15:41:28 -0400 (Fri, 24 Oct 2025) EllapsedTime: 45.6 seconds RetCode: 0 Status: OK