Package: omXplore Version: 1.4.0 Command: /home/biocbuild/bbs-3.22-bioc/R/bin/R CMD INSTALL omXplore StartedAt: 2025-11-03 15:39:13 -0500 (Mon, 03 Nov 2025) EndedAt: 2025-11-03 15:39:57 -0500 (Mon, 03 Nov 2025) EllapsedTime: 43.8 seconds RetCode: 0 Status: OK