Package: oligoClasses Version: 1.71.0 Command: /home/biocbuild/bbs-3.22-bioc/R/bin/R CMD INSTALL oligoClasses StartedAt: 2025-10-24 15:30:35 -0400 (Fri, 24 Oct 2025) EndedAt: 2025-10-24 15:31:11 -0400 (Fri, 24 Oct 2025) EllapsedTime: 36.2 seconds RetCode: 0 Status: OK