Package: oligoClasses Version: 1.72.0 Command: /Library/Frameworks/R.framework/Resources/bin/R CMD INSTALL oligoClasses StartedAt: 2025-11-03 15:24:59 -0500 (Mon, 03 Nov 2025) EndedAt: 2025-11-03 15:25:49 -0500 (Mon, 03 Nov 2025) EllapsedTime: 50.6 seconds RetCode: 0 Status: OK