Package: oligoClasses Version: 1.71.0 Command: /Library/Frameworks/R.framework/Resources/bin/R CMD INSTALL oligoClasses StartedAt: 2025-10-24 15:15:41 -0400 (Fri, 24 Oct 2025) EndedAt: 2025-10-24 15:15:55 -0400 (Fri, 24 Oct 2025) EllapsedTime: 14.9 seconds RetCode: 0 Status: OK