Package: oligoClasses Version: 1.71.0 Command: rm -rf oligoClasses.buildbin-libdir && mkdir oligoClasses.buildbin-libdir && /Users/biocbuild/BBS/utils/build-universal.sh oligoClasses_1.71.0.tar.gz /Library/Frameworks/R.framework/Resources/bin/R oligoClasses.buildbin-libdir StartedAt: 2025-10-24 23:12:52 -0400 (Fri, 24 Oct 2025) EndedAt: 2025-10-24 23:13:09 -0400 (Fri, 24 Oct 2025) EllapsedTime: 16.4 seconds RetCode: 0 Status: OK PackageFile: oligoClasses_1.71.0.tgz PackageFileSize: 1.379 MiB