Package: oligoClasses Version: 1.72.0 Maintainer: Benilton Carvalho and Robert Scharpf MaintainerEmail: rscharpf at jhsph.edu git_url: https://git.bioconductor.org/packages/oligoClasses git_branch: RELEASE_3_22 git_last_commit: d8ec574 git_last_commit_date: 2025-10-29 09:59:50 -0500 (Wed, 29 Oct 2025)