Package: oligo Version: 1.74.0 Command: /home/biocbuild/bbs-3.22-bioc/R/bin/R CMD build --keep-empty-dirs --no-resave-data --md5 oligo StartedAt: 2025-11-03 19:07:24 -0500 (Mon, 03 Nov 2025) EndedAt: 2025-11-03 19:08:03 -0500 (Mon, 03 Nov 2025) EllapsedTime: 39.1 seconds RetCode: 0 Status: OK PackageFile: oligo_1.74.0.tar.gz PackageFileSize: 27.09 MiB