Package: odseq Version: 1.37.0 Command: /home/biocbuild/bbs-3.22-bioc/R/bin/R CMD INSTALL odseq StartedAt: 2025-10-24 15:46:56 -0400 (Fri, 24 Oct 2025) EndedAt: 2025-10-24 15:47:12 -0400 (Fri, 24 Oct 2025) EllapsedTime: 15.9 seconds RetCode: 0 Status: OK