Package: octad Version: 1.11.1 Command: /home/biocbuild/bbs-3.22-bioc/R/bin/R CMD INSTALL octad StartedAt: 2025-10-24 16:06:46 -0400 (Fri, 24 Oct 2025) EndedAt: 2025-10-24 16:07:43 -0400 (Fri, 24 Oct 2025) EllapsedTime: 57.7 seconds RetCode: 0 Status: OK