Package: octad Version: 1.11.1 Command: /home/biocbuild/bbs-3.22-bioc/R/bin/R CMD build --keep-empty-dirs --no-resave-data --md5 octad StartedAt: 2025-10-24 19:12:51 -0400 (Fri, 24 Oct 2025) EndedAt: 2025-10-24 19:16:17 -0400 (Fri, 24 Oct 2025) EllapsedTime: 206.2 seconds RetCode: 0 Status: OK PackageFile: octad_1.11.1.tar.gz PackageFileSize: 1.33 MiB