Package: octad Version: 1.12.0 Command: /Library/Frameworks/R.framework/Resources/bin/R CMD INSTALL octad StartedAt: 2025-11-10 15:29:15 -0500 (Mon, 10 Nov 2025) EndedAt: 2025-11-10 15:29:38 -0500 (Mon, 10 Nov 2025) EllapsedTime: 22.6 seconds RetCode: 0 Status: OK