Package: octad Version: 1.12.0 Command: /Library/Frameworks/R.framework/Resources/bin/R CMD build --keep-empty-dirs --no-resave-data octad StartedAt: 2025-11-10 17:14:39 -0500 (Mon, 10 Nov 2025) EndedAt: 2025-11-10 17:16:06 -0500 (Mon, 10 Nov 2025) EllapsedTime: 87.1 seconds RetCode: 0 Status: OK PackageFile: octad_1.12.0.tar.gz PackageFileSize: 1.428 MiB