Package: nullranges Version: 1.15.1 Command: rm -rf nullranges.buildbin-libdir && mkdir nullranges.buildbin-libdir && /Users/biocbuild/BBS/utils/build-universal.sh nullranges_1.15.1.tar.gz /Library/Frameworks/R.framework/Resources/bin/R nullranges.buildbin-libdir StartedAt: 2025-10-25 01:53:44 -0400 (Sat, 25 Oct 2025) EndedAt: 2025-10-25 01:54:39 -0400 (Sat, 25 Oct 2025) EllapsedTime: 55.4 seconds RetCode: 0 Status: OK PackageFile: nullranges_1.15.1.tgz PackageFileSize: 5.011 MiB