Package: nullranges Version: 1.15.1 Command: /Library/Frameworks/R.framework/Resources/bin/R CMD INSTALL nullranges StartedAt: 2025-10-26 15:18:31 -0400 (Sun, 26 Oct 2025) EndedAt: 2025-10-26 15:18:47 -0400 (Sun, 26 Oct 2025) EllapsedTime: 15.3 seconds RetCode: 0 Status: OK