Package: nucleoSim Version: 1.38.0 Command: /Library/Frameworks/R.framework/Resources/bin/R CMD INSTALL nucleoSim StartedAt: 2025-11-03 15:30:53 -0500 (Mon, 03 Nov 2025) EndedAt: 2025-11-03 15:30:57 -0500 (Mon, 03 Nov 2025) EllapsedTime: 3.1 seconds RetCode: 0 Status: OK