Package: nucleoSim Version: 1.38.0 Command: rm -rf nucleoSim.buildbin-libdir && mkdir nucleoSim.buildbin-libdir && /Users/biocbuild/BBS/utils/build-universal.sh nucleoSim_1.38.0.tar.gz /Library/Frameworks/R.framework/Resources/bin/R nucleoSim.buildbin-libdir StartedAt: 2025-11-02 23:14:41 -0500 (Sun, 02 Nov 2025) EndedAt: 2025-11-02 23:14:44 -0500 (Sun, 02 Nov 2025) EllapsedTime: 3.1 seconds RetCode: 0 Status: OK PackageFile: nucleoSim_1.38.0.tgz PackageFileSize: 496.2 KiB