Package: nucleR Version: 2.41.1 Command: /home/biocbuild/bbs-3.22-bioc/R/bin/R CMD INSTALL nucleR StartedAt: 2025-10-24 16:02:51 -0400 (Fri, 24 Oct 2025) EndedAt: 2025-10-24 16:03:26 -0400 (Fri, 24 Oct 2025) EllapsedTime: 35.3 seconds RetCode: 0 Status: OK