Package: nucleR Version: 2.42.0 Command: /Library/Frameworks/R.framework/Resources/bin/R CMD INSTALL nucleR StartedAt: 2025-11-10 15:27:23 -0500 (Mon, 10 Nov 2025) EndedAt: 2025-11-10 15:27:38 -0500 (Mon, 10 Nov 2025) EllapsedTime: 14.8 seconds RetCode: 0 Status: OK