Package: nucleR Version: 2.42.0 Command: /Library/Frameworks/R.framework/Resources/bin/R CMD build --keep-empty-dirs --no-resave-data nucleR StartedAt: 2025-11-10 17:14:32 -0500 (Mon, 10 Nov 2025) EndedAt: 2025-11-10 17:14:58 -0500 (Mon, 10 Nov 2025) EllapsedTime: 26.4 seconds RetCode: 0 Status: OK PackageFile: nucleR_2.42.0.tar.gz PackageFileSize: 1.836 MiB