Package: nucleR Version: 2.42.0 Command: rm -rf nucleR.buildbin-libdir && mkdir nucleR.buildbin-libdir && /Users/biocbuild/BBS/utils/build-universal.sh nucleR_2.42.0.tar.gz /Library/Frameworks/R.framework/Resources/bin/R nucleR.buildbin-libdir StartedAt: 2025-11-10 23:29:52 -0500 (Mon, 10 Nov 2025) EndedAt: 2025-11-10 23:30:08 -0500 (Mon, 10 Nov 2025) EllapsedTime: 15.3 seconds RetCode: 0 Status: OK PackageFile: nucleR_2.42.0.tgz PackageFileSize: 1.944 MiB