Package: nuCpos Version: 1.27.0 Command: /Library/Frameworks/R.framework/Resources/bin/R CMD build --keep-empty-dirs --no-resave-data nuCpos StartedAt: 2025-10-24 17:14:48 -0400 (Fri, 24 Oct 2025) EndedAt: 2025-10-24 17:14:55 -0400 (Fri, 24 Oct 2025) EllapsedTime: 7.1 seconds RetCode: 0 Status: OK PackageFile: nuCpos_1.27.0.tar.gz PackageFileSize: 2.392 MiB