Package: npGSEA Version: 1.45.0 Command: /home/biocbuild/bbs-3.22-bioc/R/bin/R CMD INSTALL npGSEA StartedAt: 2025-10-24 15:40:26 -0400 (Fri, 24 Oct 2025) EndedAt: 2025-10-24 15:40:43 -0400 (Fri, 24 Oct 2025) EllapsedTime: 17.2 seconds RetCode: 0 Status: OK