Package: npGSEA Version: 1.45.0 Command: /home/biocbuild/bbs-3.22-bioc/R/bin/R CMD build --keep-empty-dirs --no-resave-data --md5 npGSEA StartedAt: 2025-10-24 19:12:08 -0400 (Fri, 24 Oct 2025) EndedAt: 2025-10-24 19:12:38 -0400 (Fri, 24 Oct 2025) EllapsedTime: 30.0 seconds RetCode: 0 Status: OK PackageFile: npGSEA_1.45.0.tar.gz PackageFileSize: 387 KiB