Package: notameStats Version: 1.0.0 Command: /home/biocbuild/bbs-3.22-bioc/R/bin/R CMD INSTALL notameStats StartedAt: 2025-11-06 15:33:09 -0500 (Thu, 06 Nov 2025) EndedAt: 2025-11-06 15:33:33 -0500 (Thu, 06 Nov 2025) EllapsedTime: 24.0 seconds RetCode: 0 Status: OK