Package: notameStats Version: 1.0.0 Command: /home/biocbuild/bbs-3.22-bioc/R/bin/R CMD build --keep-empty-dirs --no-resave-data --md5 notameStats StartedAt: 2025-11-06 19:03:08 -0500 (Thu, 06 Nov 2025) EndedAt: 2025-11-06 19:03:52 -0500 (Thu, 06 Nov 2025) EllapsedTime: 44.0 seconds RetCode: 0 Status: OK PackageFile: notameStats_1.0.0.tar.gz PackageFileSize: 257 KiB