Package: notame Version: 0.99.9 Command: /home/biocbuild/bbs-3.22-bioc/R/bin/R CMD INSTALL notame StartedAt: 2025-10-24 15:34:26 -0400 (Fri, 24 Oct 2025) EndedAt: 2025-10-24 15:34:51 -0400 (Fri, 24 Oct 2025) EllapsedTime: 24.9 seconds RetCode: 0 Status: OK