Package: normr Version: 1.35.0 Command: /home/biocbuild/bbs-3.22-bioc/R/bin/R CMD INSTALL normr StartedAt: 2025-10-24 15:37:34 -0400 (Fri, 24 Oct 2025) EndedAt: 2025-10-24 15:38:23 -0400 (Fri, 24 Oct 2025) EllapsedTime: 48.7 seconds RetCode: 0 Status: OK