Package: normalize450K Version: 1.38.0 Command: /Library/Frameworks/R.framework/Resources/bin/R CMD build --keep-empty-dirs --no-resave-data normalize450K StartedAt: 2025-11-03 18:02:37 -0500 (Mon, 03 Nov 2025) EndedAt: 2025-11-03 18:03:00 -0500 (Mon, 03 Nov 2025) EllapsedTime: 22.8 seconds RetCode: 0 Status: OK PackageFile: normalize450K_1.38.0.tar.gz PackageFileSize: 3.138 MiB