Package: normalize450K Version: 1.38.0 Maintainer: Jonathan Alexander Heiss MaintainerEmail: jonathan.heiss at posteo.de git_url: https://git.bioconductor.org/packages/normalize450K git_branch: RELEASE_3_22 git_last_commit: d38a6c7 git_last_commit_date: 2025-10-29 10:29:02 -0400 (Wed, 29 Oct 2025)