Package: nondetects Version: 2.39.1 Command: /home/biocbuild/bbs-3.22-bioc/R/bin/R CMD build --keep-empty-dirs --no-resave-data --md5 nondetects StartedAt: 2025-10-24 19:10:57 -0400 (Fri, 24 Oct 2025) EndedAt: 2025-10-24 19:13:27 -0400 (Fri, 24 Oct 2025) EllapsedTime: 150.2 seconds RetCode: 0 Status: OK PackageFile: nondetects_2.39.1.tar.gz PackageFileSize: 131.4 KiB