Package: nnSVG Version: 1.13.1 Command: /home/biocbuild/bbs-3.22-bioc/R/bin/R CMD build --keep-empty-dirs --no-resave-data --md5 nnSVG StartedAt: 2025-10-24 19:10:46 -0400 (Fri, 24 Oct 2025) EndedAt: 2025-10-24 19:16:09 -0400 (Fri, 24 Oct 2025) EllapsedTime: 323.3 seconds RetCode: 0 Status: OK PackageFile: nnSVG_1.13.1.tar.gz PackageFileSize: 1.377 MiB