Package: nnSVG Version: 1.14.0 Command: /Library/Frameworks/R.framework/Resources/bin/R CMD INSTALL nnSVG StartedAt: 2025-11-10 15:14:21 -0500 (Mon, 10 Nov 2025) EndedAt: 2025-11-10 15:14:30 -0500 (Mon, 10 Nov 2025) EllapsedTime: 9.0 seconds RetCode: 0 Status: OK