Package: nnNorm Version: 2.73.0 Command: /home/biocbuild/bbs-3.22-bioc/R/bin/R CMD build --keep-empty-dirs --no-resave-data --md5 nnNorm StartedAt: 2025-10-24 19:10:46 -0400 (Fri, 24 Oct 2025) EndedAt: 2025-10-24 19:11:17 -0400 (Fri, 24 Oct 2025) EllapsedTime: 31.0 seconds RetCode: 0 Status: OK PackageFile: nnNorm_2.73.0.tar.gz PackageFileSize: 1.59 MiB