Package: nipalsMCIA Version: 1.7.0 Command: /home/biocbuild/R/R/bin/R CMD INSTALL nipalsMCIA StartedAt: 2025-10-23 20:39:57 -0000 (Thu, 23 Oct 2025) EndedAt: 2025-10-23 20:40:32 -0000 (Thu, 23 Oct 2025) EllapsedTime: 34.7 seconds RetCode: 0 Status: OK