Package: nipalsMCIA Version: 1.7.0 Command: /home/biocbuild/R/R/bin/R CMD build --keep-empty-dirs --no-resave-data nipalsMCIA StartedAt: 2025-10-21 01:43:24 -0000 (Tue, 21 Oct 2025) EndedAt: 2025-10-21 01:46:28 -0000 (Tue, 21 Oct 2025) EllapsedTime: 184.1 seconds RetCode: 1 Status: ERROR PackageFile: None PackageFileSize: NA