Package: nipalsMCIA Version: 1.7.0 Command: /home/biocbuild/bbs-3.22-bioc/R/bin/R CMD build --keep-empty-dirs --no-resave-data --md5 nipalsMCIA StartedAt: 2025-10-24 19:10:39 -0400 (Fri, 24 Oct 2025) EndedAt: 2025-10-24 19:13:28 -0400 (Fri, 24 Oct 2025) EllapsedTime: 169.2 seconds RetCode: 0 Status: OK PackageFile: nipalsMCIA_1.7.0.tar.gz PackageFileSize: 3.15 MiB