Package: nipalsMCIA Version: 1.7.0 Command: /Library/Frameworks/R.framework/Resources/bin/R CMD INSTALL nipalsMCIA StartedAt: 2025-10-24 15:28:49 -0400 (Fri, 24 Oct 2025) EndedAt: 2025-10-24 15:29:25 -0400 (Fri, 24 Oct 2025) EllapsedTime: 35.2 seconds RetCode: 0 Status: OK