Package: nipalsMCIA Version: 1.7.0 Command: /Library/Frameworks/R.framework/Resources/bin/R CMD check --install=check:nipalsMCIA.install-out.txt --library=/Library/Frameworks/R.framework/Resources/library --no-vignettes --timings nipalsMCIA_1.7.0.tar.gz StartedAt: 2025-10-24 22:56:47 -0400 (Fri, 24 Oct 2025) EndedAt: 2025-10-24 23:02:03 -0400 (Fri, 24 Oct 2025) EllapsedTime: 315.7 seconds RetCode: 0 Status: OK CheckDir: nipalsMCIA.Rcheck Warnings: 0