Package: nipalsMCIA Version: 1.7.0 Command: rm -rf nipalsMCIA.buildbin-libdir && mkdir nipalsMCIA.buildbin-libdir && /Users/biocbuild/BBS/utils/build-universal.sh nipalsMCIA_1.7.0.tar.gz /Library/Frameworks/R.framework/Resources/bin/R nipalsMCIA.buildbin-libdir StartedAt: 2025-10-25 01:53:15 -0400 (Sat, 25 Oct 2025) EndedAt: 2025-10-25 01:53:56 -0400 (Sat, 25 Oct 2025) EllapsedTime: 40.4 seconds RetCode: 0 Status: OK PackageFile: nipalsMCIA_1.7.0.tgz PackageFileSize: 4.008 MiB