Package: nipalsMCIA Version: 1.7.0 Command: /Library/Frameworks/R.framework/Resources/bin/R CMD INSTALL nipalsMCIA StartedAt: 2025-10-24 15:15:54 -0400 (Fri, 24 Oct 2025) EndedAt: 2025-10-24 15:16:05 -0400 (Fri, 24 Oct 2025) EllapsedTime: 10.8 seconds RetCode: 0 Status: OK