Package: nipalsMCIA Version: 1.7.0 Command: /Library/Frameworks/R.framework/Resources/bin/R CMD build --keep-empty-dirs --no-resave-data nipalsMCIA StartedAt: 2025-10-24 17:13:42 -0400 (Fri, 24 Oct 2025) EndedAt: 2025-10-24 17:15:02 -0400 (Fri, 24 Oct 2025) EllapsedTime: 79.9 seconds RetCode: 0 Status: OK PackageFile: nipalsMCIA_1.7.0.tar.gz PackageFileSize: 3.777 MiB