Package: nipalsMCIA Version: 1.7.0 Command: rm -rf nipalsMCIA.buildbin-libdir && mkdir nipalsMCIA.buildbin-libdir && /Users/biocbuild/BBS/utils/build-universal.sh nipalsMCIA_1.7.0.tar.gz /Library/Frameworks/R.framework/Resources/bin/R nipalsMCIA.buildbin-libdir StartedAt: 2025-10-24 23:12:32 -0400 (Fri, 24 Oct 2025) EndedAt: 2025-10-24 23:12:44 -0400 (Fri, 24 Oct 2025) EllapsedTime: 12.3 seconds RetCode: 0 Status: OK PackageFile: nipalsMCIA_1.7.0.tgz PackageFileSize: 4.01 MiB