Package: ngsReports Version: 2.11.1 Command: /home/biocbuild/bbs-3.22-bioc/R/bin/R CMD INSTALL ngsReports StartedAt: 2025-10-24 15:48:47 -0400 (Fri, 24 Oct 2025) EndedAt: 2025-10-24 15:49:07 -0400 (Fri, 24 Oct 2025) EllapsedTime: 20.6 seconds RetCode: 0 Status: OK