Package: netresponse Version: 1.70.0 Command: /home/biocbuild/bbs-3.22-bioc/R/bin/R CMD check --install=check:netresponse.install-out.txt --library=/home/biocbuild/bbs-3.22-bioc/R/site-library --timings netresponse_1.70.0.tar.gz StartedAt: 2025-11-01 02:14:42 -0400 (Sat, 01 Nov 2025) EndedAt: 2025-11-01 02:16:01 -0400 (Sat, 01 Nov 2025) EllapsedTime: 79.0 seconds RetCode: 0 Status: OK CheckDir: netresponse.Rcheck Warnings: 0