Package: netresponse Version: 1.69.0 Command: /Library/Frameworks/R.framework/Resources/bin/R CMD INSTALL netresponse StartedAt: 2025-10-27 15:08:40 -0400 (Mon, 27 Oct 2025) EndedAt: 2025-10-27 15:08:45 -0400 (Mon, 27 Oct 2025) EllapsedTime: 5.2 seconds RetCode: 0 Status: OK