Package: netprioR Version: 1.36.0 Command: /Library/Frameworks/R.framework/Resources/bin/R CMD INSTALL netprioR StartedAt: 2025-10-31 15:19:56 -0400 (Fri, 31 Oct 2025) EndedAt: 2025-10-31 15:20:17 -0400 (Fri, 31 Oct 2025) EllapsedTime: 21.1 seconds RetCode: 0 Status: OK