Package: netprioR Version: 1.36.0 Command: /Library/Frameworks/R.framework/Resources/bin/R CMD build --keep-empty-dirs --no-resave-data netprioR StartedAt: 2025-11-03 18:01:40 -0500 (Mon, 03 Nov 2025) EndedAt: 2025-11-03 18:02:16 -0500 (Mon, 03 Nov 2025) EllapsedTime: 36.5 seconds RetCode: 0 Status: OK PackageFile: netprioR_1.36.0.tar.gz PackageFileSize: 546.7 KiB