Package: netprioR Version: 1.36.0 Command: rm -rf netprioR.buildbin-libdir && mkdir netprioR.buildbin-libdir && /Users/biocbuild/BBS/utils/build-universal.sh netprioR_1.36.0.tar.gz /Library/Frameworks/R.framework/Resources/bin/R netprioR.buildbin-libdir StartedAt: 2025-11-01 01:46:58 -0400 (Sat, 01 Nov 2025) EndedAt: 2025-11-01 01:47:13 -0400 (Sat, 01 Nov 2025) EllapsedTime: 14.9 seconds RetCode: 0 Status: OK PackageFile: netprioR_1.36.0.tgz PackageFileSize: 725.2 KiB