Package: netprioR Version: 1.35.0 Command: /Library/Frameworks/R.framework/Resources/bin/R CMD build --keep-empty-dirs --no-resave-data netprioR StartedAt: 2025-10-24 17:13:26 -0400 (Fri, 24 Oct 2025) EndedAt: 2025-10-24 17:13:45 -0400 (Fri, 24 Oct 2025) EllapsedTime: 19.2 seconds RetCode: 0 Status: OK PackageFile: netprioR_1.35.0.tar.gz PackageFileSize: 549.3 KiB